View In:
ArcGIS JavaScript
ArcGIS Online Map Viewer
ArcGIS Earth
Service Description: Djup_100_ars_regn
Name: Djup_100_ars_regn
Description:
Single Fused Map Cache: false
Extent:
XMin: 375447.9999999999
YMin: 6397351.000000002
XMax: 379031.9999999999
YMax: 6405103.000000002
Spatial Reference: 0
(0)
LatestVCSWkid(0)
Initial Extent:
XMin: 375447.9999999999
YMin: 6397351.000000002
XMax: 379031.9999999999
YMax: 6405103.000000002
Spatial Reference: 0
(0)
LatestVCSWkid(0)
Full Extent:
XMin: 375447.9999999999
YMin: 6397351.000000002
XMax: 379031.9999999999
YMax: 6405103.000000002
Spatial Reference: 0
(0)
LatestVCSWkid(0)
Pixel Size X: 2.0
Pixel Size Y: 2.0
Band Count: 1
Pixel Type: F32
RasterFunction Infos: {"rasterFunctionInfos": [{
"name": "None",
"description": "",
"help": ""
}]}
Mensuration Capabilities: Basic
Inspection Capabilities:
Has Histograms: true
Has Colormap: false
Has Multi Dimensions : false
Rendering Rule:
Min Scale: 0
Max Scale: 0
Copyright Text:
Service Data Type: esriImageServiceDataTypeGeneric
Min Values: 0.013799999840557575
Max Values: 10.238499641418457
Mean Values: 3.396234479933925
Standard Deviation Values: 1.8815816712757714
Object ID Field:
Fields:
None
Default Mosaic Method: Center
Allowed Mosaic Methods:
SortField:
SortValue: null
Mosaic Operator: First
Default Compression Quality: 75
Default Resampling Method: Bilinear
Max Record Count: null
Max Image Height: 4100
Max Image Width: 15000
Max Download Image Count: null
Max Mosaic Image Count: null
Allow Raster Function: true
Allow Copy: true
Allow Analysis: true
Allow Compute TiePoints: false
Supports Statistics: false
Supports Advanced Queries: false
Use StandardizedQueries: true
Raster Type Infos:
Name: Raster Dataset
Description: Supports all ArcGIS Raster Datasets
Help:
Has Raster Attribute Table: false
Edit Fields Info: null
Ownership Based AccessControl For Rasters: null
Child Resources:
Info
Histograms
Statistics
Key Properties
Legend
Raster Function Infos
Supported Operations:
Export Image
Identify
Measure
Compute Histograms
Compute Statistics Histograms
Get Samples
Compute Class Statistics
Query Boundary
Compute Pixel Location
Compute Angles
Validate
Project