View In:
ArcGIS JavaScript
ArcGIS Online Map Viewer
ArcGIS Earth
Service Description: BOR_BEF_SMHI_SW_R200KF140_001_Z0_Max_tif
Name: BOR_BEF_SMHI_SW_R200KF140_001_Z0_Max_tif
Description:
Single Fused Map Cache: false
Extent:
XMin: 111020.0
YMin: 6395092.0
XMax: 121334.0
YMax: 6405624.0
Spatial Reference: 3008
(3008)
LatestVCSWkid(0)
Initial Extent:
XMin: 111020.0
YMin: 6395092.0
XMax: 121334.0
YMax: 6405624.0
Spatial Reference: 3008
(3008)
LatestVCSWkid(0)
Full Extent:
XMin: 111020.0
YMin: 6395092.0
XMax: 121334.0
YMax: 6405624.0
Spatial Reference: 3008
(3008)
LatestVCSWkid(0)
Pixel Size X: 2.0
Pixel Size Y: 2.0
Band Count: 1
Pixel Type: F32
RasterFunction Infos: {"rasterFunctionInfos": [{
"name": "None",
"description": "",
"help": ""
}]}
Mensuration Capabilities: Basic
Inspection Capabilities:
Has Histograms: false
Has Colormap: false
Has Multi Dimensions : false
Rendering Rule:
Min Scale: 0
Max Scale: 0
Copyright Text:
Service Data Type: esriImageServiceDataTypeGeneric
Min Values: 6.2901349338063E-6
Max Values: 4.5352473258972
Mean Values: 0.050549813881272
Standard Deviation Values: 0.19822316772359
Object ID Field:
Fields:
None
Default Mosaic Method: Center
Allowed Mosaic Methods:
SortField:
SortValue: null
Mosaic Operator: First
Default Compression Quality: 75
Default Resampling Method: Bilinear
Max Record Count: null
Max Image Height: 4100
Max Image Width: 15000
Max Download Image Count: null
Max Mosaic Image Count: null
Allow Raster Function: true
Allow Copy: true
Allow Analysis: true
Allow Compute TiePoints: false
Supports Statistics: false
Supports Advanced Queries: false
Use StandardizedQueries: true
Raster Type Infos:
Name: Raster Dataset
Description: Supports all ArcGIS Raster Datasets
Help:
Has Raster Attribute Table: false
Edit Fields Info: null
Ownership Based AccessControl For Rasters: null
Child Resources:
Info
Statistics
Key Properties
Legend
Raster Function Infos
Supported Operations:
Export Image
Identify
Measure
Compute Histograms
Compute Statistics Histograms
Get Samples
Compute Class Statistics
Query Boundary
Compute Pixel Location
Compute Angles
Validate
Project