View In:
ArcGIS JavaScript
ArcGIS Online Map Viewer
ArcGIS Earth
Service Description: 100ars_regn_SMHI
Name: 100ars_regn_SMHI
Description:
Single Fused Map Cache: false
Extent:
XMin: 104879.2857
YMin: 6386900.8018
XMax: 129693.3076
YMax: 6414145.7427
Spatial Reference: 3008
(3008)
LatestVCSWkid(0)
Initial Extent:
XMin: 104879.2857
YMin: 6386900.8018
XMax: 129693.3076
YMax: 6414145.7427
Spatial Reference: 3008
(3008)
LatestVCSWkid(0)
Full Extent:
XMin: 104879.2857
YMin: 6386900.8018
XMax: 129693.3076
YMax: 6414145.7427
Spatial Reference: 3008
(3008)
LatestVCSWkid(0)
Pixel Size X: 0.9778539525535942
Pixel Size Y: 1.0221324667042109
Band Count: 1
Pixel Type: F32
RasterFunction Infos: {"rasterFunctionInfos": [{
"name": "None",
"description": "",
"help": ""
}]}
Mensuration Capabilities: Basic
Inspection Capabilities:
Has Histograms: false
Has Colormap: false
Has Multi Dimensions : false
Rendering Rule:
Min Scale: 0
Max Scale: 0
Copyright Text:
Service Data Type: esriImageServiceDataTypeGeneric
Min Values: N/A
Max Values: N/A
Mean Values: N/A
Standard Deviation Values: N/A
Object ID Field:
Fields:
None
Default Mosaic Method: Center
Allowed Mosaic Methods:
SortField:
SortValue: null
Mosaic Operator: First
Default Compression Quality: 75
Default Resampling Method: Bilinear
Max Record Count: null
Max Image Height: 4100
Max Image Width: 15000
Max Download Image Count: null
Max Mosaic Image Count: null
Allow Raster Function: true
Allow Copy: true
Allow Analysis: true
Allow Compute TiePoints: false
Supports Statistics: false
Supports Advanced Queries: false
Use StandardizedQueries: true
Raster Type Infos:
Name: Raster Dataset
Description: Supports all ArcGIS Raster Datasets
Help:
Has Raster Attribute Table: false
Edit Fields Info: null
Ownership Based AccessControl For Rasters: null
Child Resources:
Info
Statistics
Key Properties
Legend
Raster Function Infos
Supported Operations:
Export Image
Identify
Measure
Compute Histograms
Compute Statistics Histograms
Get Samples
Compute Class Statistics
Query Boundary
Compute Pixel Location
Compute Angles
Validate
Project