{
 "currentVersion": 11.3,
 "serviceDescription": "Kluster_analys_trädtäcke2024",
 "name": "Kluster_analys_trädtäcke2024",
 "description": "",
 "extent": {
  "xmin": 105000.07999999993,
  "ymin": 6392503.920000001,
  "xmax": 127496.07999999993,
  "ymax": 6412499.920000001,
  "spatialReference": {
   "wkid": 3008,
   "latestWkid": 3008
  }
 },
 "initialExtent": {
  "xmin": 105000.07999999993,
  "ymin": 6392503.920000001,
  "xmax": 127496.07999999993,
  "ymax": 6412499.920000001,
  "spatialReference": {
   "wkid": 3008,
   "latestWkid": 3008
  }
 },
 "fullExtent": {
  "xmin": 105000.07999999993,
  "ymin": 6392503.920000001,
  "xmax": 127496.07999999993,
  "ymax": 6412499.920000001,
  "spatialReference": {
   "wkid": 3008,
   "latestWkid": 3008
  }
 },
 "sortableFields": "",
 "bandCount": 1,
 "pixelType": "F32",
 "minValues": [],
 "maxValues": [],
 "meanValues": [],
 "stdvValues": [],
 "hasMultidimensions": false,
 "pixelSizeX": 4,
 "pixelSizeY": 4,
 "meanPixelSize": 4,
 "datasetFormat": "TIFF",
 "uncompressedSize": 112457504,
 "blockWidth": 5624,
 "blockHeight": 1,
 "compressionType": "None",
 "bandNames": [
  "Band_1"
 ],
 "allowCopy": true,
 "allowAnalysis": true,
 "itemAccess": false,
 "inspectionCapabilities": "",
 "minPixelSize": 0,
 "maxPixelSize": 0,
 "copyrightText": "",
 "serviceDataType": "esriImageServiceDataTypeGeneric",
 "serviceSourceType": "esriImageServiceSourceTypeDataset",
 "objectIdField": "",
 "fields": [],
 "capabilities": "Image,Metadata,Mensuration",
 "defaultMosaicMethod": "Center",
 "allowedMosaicMethods": "",
 "sortField": "",
 "sortValue": null,
 "sortAscending": true,
 "mosaicOperator": "First",
 "defaultCompressionQuality": 75,
 "defaultResamplingMethod": "Bilinear",
 "maxImageHeight": 4100,
 "maxImageWidth": 15000,
 "allowRasterFunction": true,
 "rasterFunctionInfos": [
  {
   "name": "None",
   "description": "",
   "help": ""
  }
 ],
 "rasterTypeInfos": [
  {
   "name": "Raster Dataset",
   "description": "Supports all ArcGIS Raster Datasets",
   "help": ""
  }
 ],
 "mensurationCapabilities": "Basic",
 "hasHistograms": false,
 "hasColormap": false,
 "hasRasterAttributeTable": false,
 "minScale": 0,
 "maxScale": 0,
 "exportTilesAllowed": false,
 "supportsStatistics": false,
 "supportsAdvancedQueries": false,
 "editFieldsInfo": null,
 "ownershipBasedAccessControlForRasters": null,
 "allowComputeTiePoints": false,
 "useStandardizedQueries": true,
 "advancedQueryCapabilities": {
  "useStandardizedQueries": true,
  "supportsStatistics": false,
  "supportsOrderBy": false,
  "supportsDistinct": false,
  "supportsPagination": false
 },
 "spatialReference": {
  "wkid": 3008,
  "latestWkid": 3008
 }
}
